BEGIN:VCALENDAR
VERSION:2.0
PRODID:-//destination.one//NONSGML destination.meta API//DE
X-WR-CALDESC:A calendar powered by destination.meta
X-WR-CALNAME:oberpfaelzer-seenland Kalender via destination.meta
BEGIN:VEVENT
CATEGORIES:Brauchtum/Kultur
CATEGORIES:Weihnachten / Advent
DESCRIPTION:Besuchen Sie den Brucker Weihnachtsmarkt und erleben Sie die we
 ihnachtliche Stimmung.\n\nmehr Informationen unter http://pages.destinatio
 n.one/de/oberpfaelzer-seenland/streaming/detail/Event/e_100476549/brucker-
 weihnachtsmarkt
DTEND;TZID=Europe/Berlin;VALUE=DATE:20221205
DTSTAMP:20260420T090437Z
DTSTART;TZID=Europe/Berlin;VALUE=DATE:20221203
GEO:49.250107;12.308158
LOCATION:Marktplatz\, Marktplatz 5\,  Bruck i.d.OPf.
ORGANIZER;CN=Markt Bruck i.d. OPf. und örtliche Vereine:mailto:info@bruck.e
 u
SEQUENCE:0
SUMMARY:Brucker Weihnachtsmarkt
UID:e_100476549_iv0
URL:http://pages.destination.one/de/oberpfaelzer-seenland/streaming/detail/
 Event/e_100476549/brucker-weihnachtsmarkt
END:VEVENT
BEGIN:VEVENT
CATEGORIES:Brauchtum/Kultur
CATEGORIES:Weihnachten / Advent
DESCRIPTION:Besuchen Sie den Brucker Weihnachtsmarkt und erleben Sie die we
 ihnachtliche Stimmung.\n\nmehr Informationen unter http://pages.destinatio
 n.one/de/oberpfaelzer-seenland/streaming/detail/Event/e_100476549/brucker-
 weihnachtsmarkt
DTEND;TZID=Europe/Berlin;VALUE=DATE:20231210
DTSTAMP:20260420T090437Z
DTSTART;TZID=Europe/Berlin;VALUE=DATE:20231209
GEO:49.250107;12.308158
LOCATION:Marktplatz\, Marktplatz 5\,  Bruck i.d.OPf.
ORGANIZER;CN=Markt Bruck i.d. OPf. und örtliche Vereine:mailto:info@bruck.e
 u
SEQUENCE:0
SUMMARY:Brucker Weihnachtsmarkt
UID:e_100476549_iv1
URL:http://pages.destination.one/de/oberpfaelzer-seenland/streaming/detail/
 Event/e_100476549/brucker-weihnachtsmarkt
END:VEVENT
BEGIN:VEVENT
CATEGORIES:Brauchtum/Kultur
CATEGORIES:Weihnachten / Advent
DESCRIPTION:Besuchen Sie den Brucker Weihnachtsmarkt und erleben Sie die we
 ihnachtliche Stimmung.\n\nmehr Informationen unter http://pages.destinatio
 n.one/de/oberpfaelzer-seenland/streaming/detail/Event/e_100476549/brucker-
 weihnachtsmarkt
DTEND;TZID=Europe/Berlin;VALUE=DATE:20241208
DTSTAMP:20260420T090437Z
DTSTART;TZID=Europe/Berlin;VALUE=DATE:20241207
GEO:49.250107;12.308158
LOCATION:Marktplatz\, Marktplatz 5\,  Bruck i.d.OPf.
ORGANIZER;CN=Markt Bruck i.d. OPf. und örtliche Vereine:mailto:info@bruck.e
 u
SEQUENCE:0
SUMMARY:Brucker Weihnachtsmarkt
UID:e_100476549_iv2
URL:http://pages.destination.one/de/oberpfaelzer-seenland/streaming/detail/
 Event/e_100476549/brucker-weihnachtsmarkt
END:VEVENT
BEGIN:VEVENT
CATEGORIES:Brauchtum/Kultur
CATEGORIES:Weihnachten / Advent
DESCRIPTION:Besuchen Sie den Brucker Weihnachtsmarkt und erleben Sie die we
 ihnachtliche Stimmung.\n\nmehr Informationen unter http://pages.destinatio
 n.one/de/oberpfaelzer-seenland/streaming/detail/Event/e_100476549/brucker-
 weihnachtsmarkt
DTEND;TZID=Europe/Berlin;VALUE=DATE:20251208
DTSTAMP:20260420T090437Z
DTSTART;TZID=Europe/Berlin;VALUE=DATE:20251206
GEO:49.250107;12.308158
LOCATION:Marktplatz\, Marktplatz 5\,  Bruck i.d.OPf.
ORGANIZER;CN=Markt Bruck i.d. OPf. und örtliche Vereine:mailto:info@bruck.e
 u
SEQUENCE:0
SUMMARY:Brucker Weihnachtsmarkt
UID:e_100476549_iv3
URL:http://pages.destination.one/de/oberpfaelzer-seenland/streaming/detail/
 Event/e_100476549/brucker-weihnachtsmarkt
END:VEVENT
BEGIN:VEVENT
CATEGORIES:Brauchtum/Kultur
CATEGORIES:Weihnachten / Advent
DESCRIPTION:Besuchen Sie den Brucker Weihnachtsmarkt und erleben Sie die we
 ihnachtliche Stimmung.\n\nmehr Informationen unter http://pages.destinatio
 n.one/de/oberpfaelzer-seenland/streaming/detail/Event/e_100476549/brucker-
 weihnachtsmarkt
DTEND;TZID=Europe/Berlin;VALUE=DATE:20261207
DTSTAMP:20260420T090437Z
DTSTART;TZID=Europe/Berlin;VALUE=DATE:20261205
GEO:49.250107;12.308158
LOCATION:Marktplatz\, Marktplatz 5\,  Bruck i.d.OPf.
ORGANIZER;CN=Markt Bruck i.d. OPf. und örtliche Vereine:mailto:info@bruck.e
 u
SEQUENCE:0
SUMMARY:Brucker Weihnachtsmarkt
UID:e_100476549_iv4
URL:http://pages.destination.one/de/oberpfaelzer-seenland/streaming/detail/
 Event/e_100476549/brucker-weihnachtsmarkt
END:VEVENT
BEGIN:VEVENT
CATEGORIES:Brauchtum/Kultur
CATEGORIES:Weihnachten / Advent
DESCRIPTION:Besuchen Sie den Brucker Weihnachtsmarkt und erleben Sie die we
 ihnachtliche Stimmung.\n\nmehr Informationen unter http://pages.destinatio
 n.one/de/oberpfaelzer-seenland/streaming/detail/Event/e_100476549/brucker-
 weihnachtsmarkt
DTEND;TZID=Europe/Berlin;VALUE=DATE:20271206
DTSTAMP:20260420T090437Z
DTSTART;TZID=Europe/Berlin;VALUE=DATE:20271204
GEO:49.250107;12.308158
LOCATION:Marktplatz\, Marktplatz 5\,  Bruck i.d.OPf.
ORGANIZER;CN=Markt Bruck i.d. OPf. und örtliche Vereine:mailto:info@bruck.e
 u
SEQUENCE:0
SUMMARY:Brucker Weihnachtsmarkt
UID:e_100476549_iv5
URL:http://pages.destination.one/de/oberpfaelzer-seenland/streaming/detail/
 Event/e_100476549/brucker-weihnachtsmarkt
END:VEVENT
BEGIN:VEVENT
CATEGORIES:Brauchtum/Kultur
CATEGORIES:Weihnachten / Advent
DESCRIPTION:Besuchen Sie den Brucker Weihnachtsmarkt und erleben Sie die we
 ihnachtliche Stimmung.\n\nmehr Informationen unter http://pages.destinatio
 n.one/de/oberpfaelzer-seenland/streaming/detail/Event/e_100476549/brucker-
 weihnachtsmarkt
DTEND;TZID=Europe/Berlin;VALUE=DATE:20281211
DTSTAMP:20260420T090437Z
DTSTART;TZID=Europe/Berlin;VALUE=DATE:20281209
GEO:49.250107;12.308158
LOCATION:Marktplatz\, Marktplatz 5\,  Bruck i.d.OPf.
ORGANIZER;CN=Markt Bruck i.d. OPf. und örtliche Vereine:mailto:info@bruck.e
 u
SEQUENCE:0
SUMMARY:Brucker Weihnachtsmarkt
UID:e_100476549_iv6
URL:http://pages.destination.one/de/oberpfaelzer-seenland/streaming/detail/
 Event/e_100476549/brucker-weihnachtsmarkt
END:VEVENT
BEGIN:VEVENT
CATEGORIES:Brauchtum/Kultur
CATEGORIES:Weihnachten / Advent
DESCRIPTION:Besuchen Sie den Brucker Weihnachtsmarkt und erleben Sie die we
 ihnachtliche Stimmung.\n\nmehr Informationen unter http://pages.destinatio
 n.one/de/oberpfaelzer-seenland/streaming/detail/Event/e_100476549/brucker-
 weihnachtsmarkt
DTEND;TZID=Europe/Berlin;VALUE=DATE:20291210
DTSTAMP:20260420T090437Z
DTSTART;TZID=Europe/Berlin;VALUE=DATE:20291208
GEO:49.250107;12.308158
LOCATION:Marktplatz\, Marktplatz 5\,  Bruck i.d.OPf.
ORGANIZER;CN=Markt Bruck i.d. OPf. und örtliche Vereine:mailto:info@bruck.e
 u
SEQUENCE:0
SUMMARY:Brucker Weihnachtsmarkt
UID:e_100476549_iv7
URL:http://pages.destination.one/de/oberpfaelzer-seenland/streaming/detail/
 Event/e_100476549/brucker-weihnachtsmarkt
END:VEVENT
BEGIN:VEVENT
CATEGORIES:Brauchtum/Kultur
CATEGORIES:Weihnachten / Advent
DESCRIPTION:Besuchen Sie den Brucker Weihnachtsmarkt und erleben Sie die we
 ihnachtliche Stimmung.\n\nmehr Informationen unter http://pages.destinatio
 n.one/de/oberpfaelzer-seenland/streaming/detail/Event/e_100476549/brucker-
 weihnachtsmarkt
DTEND;TZID=Europe/Berlin;VALUE=DATE:20301209
DTSTAMP:20260420T090437Z
DTSTART;TZID=Europe/Berlin;VALUE=DATE:20301207
GEO:49.250107;12.308158
LOCATION:Marktplatz\, Marktplatz 5\,  Bruck i.d.OPf.
ORGANIZER;CN=Markt Bruck i.d. OPf. und örtliche Vereine:mailto:info@bruck.e
 u
SEQUENCE:0
SUMMARY:Brucker Weihnachtsmarkt
UID:e_100476549_iv8
URL:http://pages.destination.one/de/oberpfaelzer-seenland/streaming/detail/
 Event/e_100476549/brucker-weihnachtsmarkt
END:VEVENT
BEGIN:VTIMEZONE
TZID:Europe/Berlin
X-LIC-LOCATION:Europe/Berlin
BEGIN:DAYLIGHT
DTSTART:19700329T020000
RRULE:FREQ=YEARLY;BYDAY=-1SU;BYMONTH=3
TZNAME:CEST
TZOFFSETFROM:+0100
TZOFFSETTO:+0200
END:DAYLIGHT
BEGIN:STANDARD
DTSTART:19701025T030000
RRULE:FREQ=YEARLY;BYDAY=-1SU;BYMONTH=10
TZNAME:CET
TZOFFSETFROM:+0200
TZOFFSETTO:+0100
END:STANDARD
END:VTIMEZONE
END:VCALENDAR
